BEGIN:VCALENDAR
VERSION:2.0
PRODID:-//Marlsgate - ECPv6.15.15//NONSGML v1.0//EN
CALSCALE:GREGORIAN
METHOD:PUBLISH
X-ORIGINAL-URL:https://marlsgate.com
X-WR-CALDESC:Events for Marlsgate
REFRESH-INTERVAL;VALUE=DURATION:PT1H
X-Robots-Tag:noindex
X-PUBLISHED-TTL:PT1H
BEGIN:VTIMEZONE
TZID:America/New_York
BEGIN:DAYLIGHT
TZOFFSETFROM:-0500
TZOFFSETTO:-0400
TZNAME:EDT
DTSTART:20240310T070000
END:DAYLIGHT
BEGIN:STANDARD
TZOFFSETFROM:-0400
TZOFFSETTO:-0500
TZNAME:EST
DTSTART:20241103T060000
END:STANDARD
BEGIN:DAYLIGHT
TZOFFSETFROM:-0500
TZOFFSETTO:-0400
TZNAME:EDT
DTSTART:20250309T070000
END:DAYLIGHT
BEGIN:STANDARD
TZOFFSETFROM:-0400
TZOFFSETTO:-0500
TZNAME:EST
DTSTART:20251102T060000
END:STANDARD
BEGIN:DAYLIGHT
TZOFFSETFROM:-0500
TZOFFSETTO:-0400
TZNAME:EDT
DTSTART:20260308T070000
END:DAYLIGHT
BEGIN:STANDARD
TZOFFSETFROM:-0400
TZOFFSETTO:-0500
TZNAME:EST
DTSTART:20261101T060000
END:STANDARD
END:VTIMEZONE
BEGIN:VEVENT
DTSTART;TZID=America/New_York:20251203T140000
DTEND;TZID=America/New_York:20251203T160000
DTSTAMP:20260424T143321
CREATED:20250911T000115Z
LAST-MODIFIED:20250919T005550Z
UID:10001381-1764770400-1764777600@marlsgate.com
SUMMARY:SOLD OUT-Thank you SO much....Christmas Afternoon Tea 3rd
DESCRIPTION:Please watch for additional dates for Christmas Afternoon Tea…. \nThe most wonderful tradition at Marlsgate during Christmastime is Afternoon Tea.  Gather your friends and join us for genuine Afternoon Tea with all of the holiday festivities.  Tickets will be $50 per guest.
URL:https://marlsgate.com/event/christmas-afternoon-tea-3rd/
LOCATION:Marlsgate\, 2700 Bear Skin Lake Rd\, Scott\, AR\, 72142\, United States
CATEGORIES:Christmas
ATTACH;FMTTYPE=image/jpeg:https://marlsgate.com/wp-content/uploads/2025/09/Marlsgate-Christmas-Afternoon-Tea-2025-1.jpg
END:VEVENT
BEGIN:VEVENT
DTSTART;TZID=America/New_York:20251205T080000
DTEND;TZID=America/New_York:20251205T190000
DTSTAMP:20260424T143321
CREATED:20250911T001419Z
LAST-MODIFIED:20250911T001419Z
UID:10001388-1764921600-1764961200@marlsgate.com
SUMMARY:Holly Days
DESCRIPTION:Come see us at Holly Days at Pleasant Valley Country Club…..
URL:https://marlsgate.com/event/holly-days/
LOCATION:Marlsgate\, 2700 Bear Skin Lake Rd\, Scott\, AR\, 72142\, United States
CATEGORIES:Christmas
END:VEVENT
BEGIN:VEVENT
DTSTART;TZID=America/New_York:20251206T180000
DTEND;TZID=America/New_York:20251206T210000
DTSTAMP:20260424T143321
CREATED:20250911T225155Z
LAST-MODIFIED:20250913T183757Z
UID:10001396-1765044000-1765054800@marlsgate.com
SUMMARY:NEW Christmas in the Ballroom at Marlsgate -- Dinner and Live Music
DESCRIPTION:An elegant evening in the NEW Ballroom at Marlsgate…. \nLive music and Christmas Carols on the Baby Grand Piano to welcome everyone…. \nEnjoy a special dinner and our Jazz Combo playing all your favorite music for dining and for dancing…. \nReservations are required.  The menu will be posted in the coming few weeks.
URL:https://marlsgate.com/event/new-christmas-in-the-ballroom-at-marlsgate-dinner-and-live-music/
LOCATION:Marlsgate\, 2700 Bear Skin Lake Rd\, Scott\, AR\, 72142\, United States
CATEGORIES:Christmas
ATTACH;FMTTYPE=image/jpeg:https://marlsgate.com/wp-content/uploads/2025/09/Marlsgate-Christmas-Ballroom-Dinner-2025.jpg
END:VEVENT
BEGIN:VEVENT
DTSTART;TZID=America/New_York:20251210T140000
DTEND;TZID=America/New_York:20251210T160000
DTSTAMP:20260424T143321
CREATED:20250911T000257Z
LAST-MODIFIED:20250919T005950Z
UID:10001382-1765375200-1765382400@marlsgate.com
SUMMARY:SOLD OUT - Thank you SO much - Christmas Afternoon Tea 10th
DESCRIPTION:Please watch for additional dates for Christmas Afternoon Tea…. \nThe most wonderful tradition at Marlsgate during Christmastime is Afternoon Tea.  Gather your friends and join us for genuine Afternoon Tea with all of the holiday festivities.  Tickets will be $50 per guest.
URL:https://marlsgate.com/event/christmas-afternoon-tea-10th/
LOCATION:Marlsgate\, 2700 Bear Skin Lake Rd\, Scott\, AR\, 72142\, United States
CATEGORIES:Christmas
ATTACH;FMTTYPE=image/jpeg:https://marlsgate.com/wp-content/uploads/2025/09/Marlsgate-Christmas-Afternoon-Tea-2025-1.jpg
END:VEVENT
BEGIN:VEVENT
DTSTART;TZID=America/New_York:20251213T113000
DTEND;TZID=America/New_York:20251213T133000
DTSTAMP:20260424T143321
CREATED:20250911T224635Z
LAST-MODIFIED:20251005T172909Z
UID:10001395-1765625400-1765632600@marlsgate.com
SUMMARY:SOLD OUT-Thank you SO Much--Traditional Christmas Brunch 13th
DESCRIPTION:Join us for our Marlsgate annual tradition for families and friends. Our classic brunch will feature all the favorite holiday foods\, and fires in all the fireplaces will set the tone with Christmas music along with the most elegant holiday decor. If you have never seen Marlsgate in all its splendor during the holiday season you need to visit us for our annual holiday brunch.
URL:https://marlsgate.com/event/traditional-christmas-brunch-13th/
LOCATION:Marlsgate\, 2700 Bear Skin Lake Rd\, Scott\, AR\, 72142\, United States
CATEGORIES:Christmas
ATTACH;FMTTYPE=image/jpeg:https://marlsgate.com/wp-content/uploads/2025/09/Marlsgate-Christmas-Brunch-2025.jpg
END:VEVENT
BEGIN:VEVENT
DTSTART;TZID=America/New_York:20251214T140000
DTEND;TZID=America/New_York:20251214T160000
DTSTAMP:20260424T143321
CREATED:20250919T010623Z
LAST-MODIFIED:20251107T210012Z
UID:10001397-1765720800-1765728000@marlsgate.com
SUMMARY:SOLD OUT-Thank you SO much-Christmas Afternoon Tea 14th
DESCRIPTION:The most wonderful tradition at Marlsgate during Christmastime is Afternoon Tea.  Gather your friends and join us for genuine Afternoon Tea with all of the holiday festivities.  Tickets will be $50 per guest.
URL:https://marlsgate.com/event/christmas-afternoon-tea-14th/
LOCATION:Marlsgate\, 2700 Bear Skin Lake Rd\, Scott\, AR\, 72142\, United States
CATEGORIES:Christmas
END:VEVENT
BEGIN:VEVENT
DTSTART;TZID=America/New_York:20251217T140000
DTEND;TZID=America/New_York:20251217T160000
DTSTAMP:20260424T143321
CREATED:20250911T000351Z
LAST-MODIFIED:20250926T234438Z
UID:10001383-1765980000-1765987200@marlsgate.com
SUMMARY:SOLD OUT-Thank you SO much...Christmas Afternoon Tea 17th
DESCRIPTION:The most wonderful tradition at Marlsgate during Christmastime is Afternoon Tea.  Gather your friends and join us for genuine Afternoon Tea with all of the holiday festivities.  Tickets will be $50 per guest.
URL:https://marlsgate.com/event/christmas-afternoon-tea-17th/
LOCATION:Marlsgate\, 2700 Bear Skin Lake Rd\, Scott\, AR\, 72142\, United States
CATEGORIES:Christmas
ATTACH;FMTTYPE=image/jpeg:https://marlsgate.com/wp-content/uploads/2025/09/Marlsgate-Christmas-Afternoon-Tea-2025-1.jpg
END:VEVENT
BEGIN:VEVENT
DTSTART;TZID=America/New_York:20251220T180000
DTEND;TZID=America/New_York:20251220T210000
DTSTAMP:20260424T143321
CREATED:20250911T000500Z
LAST-MODIFIED:20251216T205935Z
UID:10001384-1766253600-1766264400@marlsgate.com
SUMMARY:SOLD OUT -- Thank you SO much....Christmas Candlelight Dinner 20th
DESCRIPTION:There’s no better Christmas present than being in the presence of family and friends. Come celebrate the joyous holiday season at Marlsgate and unlock the Christmas magic by candlelight.  Your table will be set with beautiful crystal and china from generations of family collections. We will have traditional Christmas music\, and roaring fires in every room. \nBy reservation only.
URL:https://marlsgate.com/event/christmas-candlelight-dinner-20th/
LOCATION:Marlsgate\, 2700 Bear Skin Lake Rd\, Scott\, AR\, 72142\, United States
CATEGORIES:Christmas
ATTACH;FMTTYPE=image/jpeg:https://marlsgate.com/wp-content/uploads/2025/09/Marlsgate-Christmas-Candlelight-Dinner-2025.jpg
END:VEVENT
BEGIN:VEVENT
DTSTART;TZID=America/New_York:20251221T113000
DTEND;TZID=America/New_York:20251221T133000
DTSTAMP:20260424T143321
CREATED:20250911T000557Z
LAST-MODIFIED:20251217T182749Z
UID:10001385-1766316600-1766323800@marlsgate.com
SUMMARY:SOLD OUT -- Thank you SO much......Traditional Christmas Brunch 21st
DESCRIPTION:Join us for our Marlsgate annual tradition for families and friends. Our classic brunch will feature all the favorite holiday foods\, and fires in all the fireplaces will set the tone with Christmas music along with the most elegant holiday decor. If you have never seen Marlsgate in all its splendor during the holiday season you need to visit us for our annual holiday brunch.
URL:https://marlsgate.com/event/christmas-brunch-21st/
LOCATION:Marlsgate\, 2700 Bear Skin Lake Rd\, Scott\, AR\, 72142\, United States
CATEGORIES:Christmas
ATTACH;FMTTYPE=image/jpeg:https://marlsgate.com/wp-content/uploads/2025/09/Marlsgate-Christmas-Brunch-2025.jpg
END:VEVENT
END:VCALENDAR