BEGIN:VCALENDAR
VERSION:2.0
PRODID:-//Marlsgate - ECPv6.15.15//NONSGML v1.0//EN
CALSCALE:GREGORIAN
METHOD:PUBLISH
X-ORIGINAL-URL:https://marlsgate.com
X-WR-CALDESC:Events for Marlsgate
REFRESH-INTERVAL;VALUE=DURATION:PT1H
X-Robots-Tag:noindex
X-PUBLISHED-TTL:PT1H
BEGIN:VTIMEZONE
TZID:America/New_York
BEGIN:DAYLIGHT
TZOFFSETFROM:-0500
TZOFFSETTO:-0400
TZNAME:EDT
DTSTART:20230312T070000
END:DAYLIGHT
BEGIN:STANDARD
TZOFFSETFROM:-0400
TZOFFSETTO:-0500
TZNAME:EST
DTSTART:20231105T060000
END:STANDARD
BEGIN:DAYLIGHT
TZOFFSETFROM:-0500
TZOFFSETTO:-0400
TZNAME:EDT
DTSTART:20240310T070000
END:DAYLIGHT
BEGIN:STANDARD
TZOFFSETFROM:-0400
TZOFFSETTO:-0500
TZNAME:EST
DTSTART:20241103T060000
END:STANDARD
BEGIN:DAYLIGHT
TZOFFSETFROM:-0500
TZOFFSETTO:-0400
TZNAME:EDT
DTSTART:20250309T070000
END:DAYLIGHT
BEGIN:STANDARD
TZOFFSETFROM:-0400
TZOFFSETTO:-0500
TZNAME:EST
DTSTART:20251102T060000
END:STANDARD
BEGIN:DAYLIGHT
TZOFFSETFROM:-0500
TZOFFSETTO:-0400
TZNAME:EDT
DTSTART:20260308T070000
END:DAYLIGHT
BEGIN:STANDARD
TZOFFSETFROM:-0400
TZOFFSETTO:-0500
TZNAME:EST
DTSTART:20261101T060000
END:STANDARD
BEGIN:DAYLIGHT
TZOFFSETFROM:-0500
TZOFFSETTO:-0400
TZNAME:EDT
DTSTART:20270314T070000
END:DAYLIGHT
BEGIN:STANDARD
TZOFFSETFROM:-0400
TZOFFSETTO:-0500
TZNAME:EST
DTSTART:20271107T060000
END:STANDARD
END:VTIMEZONE
BEGIN:VEVENT
DTSTART;TZID=America/New_York:20260411T080000
DTEND;TZID=America/New_York:20260411T170000
DTSTAMP:20260419T123517
CREATED:20250911T004310Z
LAST-MODIFIED:20250911T004310Z
UID:10001392-1775894400-1775926800@marlsgate.com
SUMMARY:Wedding Bells are Ringing!
DESCRIPTION:
URL:https://marlsgate.com/event/wedding-bells-are-ringing-8/
LOCATION:Marlsgate\, 2700 Bear Skin Lake Rd\, Scott\, AR\, 72142\, United States
CATEGORIES:Wedding
END:VEVENT
BEGIN:VEVENT
DTSTART;VALUE=DATE:20260404
DTEND;VALUE=DATE:20260405
DTSTAMP:20260419T123517
CREATED:20250619T205529Z
LAST-MODIFIED:20250911T003827Z
UID:10001365-1775260800-1775347199@marlsgate.com
SUMMARY:Wedding Bells Are Ringing!
DESCRIPTION:
URL:https://marlsgate.com/event/wedding-bells-are-ringing-2/
LOCATION:Marlsgate\, 2700 Bear Skin Lake Rd\, Scott\, AR\, 72142\, United States
CATEGORIES:Wedding
END:VEVENT
BEGIN:VEVENT
DTSTART;VALUE=DATE:20260117
DTEND;VALUE=DATE:20260118
DTSTAMP:20260419T123517
CREATED:20250910T235752Z
LAST-MODIFIED:20250910T235752Z
UID:10001379-1768608000-1768694399@marlsgate.com
SUMMARY:Marlsgate Wedding-Private Event
DESCRIPTION:
URL:https://marlsgate.com/event/marlsgate-wedding-private-event-8/
LOCATION:Marlsgate\, 2700 Bear Skin Lake Rd\, Scott\, AR\, 72142\, United States
CATEGORIES:Wedding
END:VEVENT
BEGIN:VEVENT
DTSTART;VALUE=DATE:20251101
DTEND;VALUE=DATE:20251102
DTSTAMP:20260419T123517
CREATED:20241224T150420Z
LAST-MODIFIED:20241224T150420Z
UID:10001061-1761955200-1762041599@marlsgate.com
SUMMARY:Marlsgate Wedding-Private Event
DESCRIPTION:
URL:https://marlsgate.com/event/marlsgate-wedding-private-event-7/
LOCATION:Marlsgate\, 2700 Bear Skin Lake Rd\, Scott\, AR\, 72142\, United States
CATEGORIES:Wedding
ATTACH;FMTTYPE=image/jpeg:https://marlsgate.com/wp-content/uploads/2024/01/qtq80-dGBVPW.jpeg
END:VEVENT
BEGIN:VEVENT
DTSTART;TZID=America/New_York:20251031T110000
DTEND;TZID=America/New_York:20251031T140000
DTSTAMP:20260419T123517
CREATED:20250911T002637Z
LAST-MODIFIED:20250911T002637Z
UID:10001389-1761908400-1761919200@marlsgate.com
SUMMARY:Private Bridal Luncheon Party
DESCRIPTION:
URL:https://marlsgate.com/event/private-bridal-luncheon-party/
LOCATION:Marlsgate\, 2700 Bear Skin Lake Rd\, Scott\, AR\, 72142\, United States
CATEGORIES:Wedding
END:VEVENT
BEGIN:VEVENT
DTSTART;VALUE=DATE:20251018
DTEND;VALUE=DATE:20251019
DTSTAMP:20260419T123517
CREATED:20241224T150322Z
LAST-MODIFIED:20241224T150322Z
UID:10001060-1760745600-1760831999@marlsgate.com
SUMMARY:Marlsgate Wedding-Private Event
DESCRIPTION:
URL:https://marlsgate.com/event/marlsgate-wedding-private-event-6/
LOCATION:Marlsgate\, 2700 Bear Skin Lake Rd\, Scott\, AR\, 72142\, United States
CATEGORIES:Wedding
ATTACH;FMTTYPE=image/jpeg:https://marlsgate.com/wp-content/uploads/2024/01/qtq80-dGBVPW.jpeg
END:VEVENT
BEGIN:VEVENT
DTSTART;VALUE=DATE:20251004
DTEND;VALUE=DATE:20251005
DTSTAMP:20260419T123517
CREATED:20250619T205434Z
LAST-MODIFIED:20250717T001143Z
UID:10001364-1759536000-1759622399@marlsgate.com
SUMMARY:Wedding Bells Are Ringing!
DESCRIPTION:
URL:https://marlsgate.com/event/wedding-bells-are-ringing/
LOCATION:Marlsgate\, 2700 Bear Skin Lake Rd\, Scott\, AR\, 72142\, United States
CATEGORIES:Wedding
END:VEVENT
BEGIN:VEVENT
DTSTART;VALUE=DATE:20250614
DTEND;VALUE=DATE:20250615
DTSTAMP:20260419T123517
CREATED:20241224T150145Z
LAST-MODIFIED:20241224T150145Z
UID:10001059-1749859200-1749945599@marlsgate.com
SUMMARY:Marlsgate Wedding-Private Event
DESCRIPTION:
URL:https://marlsgate.com/event/marlsgate-wedding-private-event-5/
LOCATION:Marlsgate\, 2700 Bear Skin Lake Rd\, Scott\, AR\, 72142\, United States
CATEGORIES:Wedding
ATTACH;FMTTYPE=image/jpeg:https://marlsgate.com/wp-content/uploads/2024/01/qtq80-dGBVPW.jpeg
END:VEVENT
BEGIN:VEVENT
DTSTART;VALUE=DATE:20250607
DTEND;VALUE=DATE:20250608
DTSTAMP:20260419T123517
CREATED:20241224T150006Z
LAST-MODIFIED:20241224T150021Z
UID:10001058-1749254400-1749340799@marlsgate.com
SUMMARY:Marlsgate Wedding-Private Event
DESCRIPTION:
URL:https://marlsgate.com/event/marlsgate-wedding-private-event-4/
LOCATION:Marlsgate\, 2700 Bear Skin Lake Rd\, Scott\, AR\, 72142\, United States
CATEGORIES:Wedding
ATTACH;FMTTYPE=image/jpeg:https://marlsgate.com/wp-content/uploads/2024/01/qtq80-I1TZIQ-scaled.jpeg
END:VEVENT
BEGIN:VEVENT
DTSTART;VALUE=DATE:20250426
DTEND;VALUE=DATE:20250427
DTSTAMP:20260419T123517
CREATED:20241224T145322Z
LAST-MODIFIED:20241224T145322Z
UID:10001057-1745625600-1745711999@marlsgate.com
SUMMARY:Marlsgate Wedding-Private Event
DESCRIPTION:
URL:https://marlsgate.com/event/marlsgate-wedding-private-event-3/
LOCATION:Marlsgate\, 2700 Bear Skin Lake Rd\, Scott\, AR\, 72142\, United States
CATEGORIES:Wedding
ATTACH;FMTTYPE=image/jpeg:https://marlsgate.com/wp-content/uploads/2024/01/qtq80-dGBVPW.jpeg
END:VEVENT
BEGIN:VEVENT
DTSTART;VALUE=DATE:20240504
DTEND;VALUE=DATE:20240505
DTSTAMP:20260419T123517
CREATED:20240105T005119Z
LAST-MODIFIED:20240125T210612Z
UID:10000201-1714780800-1714867199@marlsgate.com
SUMMARY:Marlsgate Wedding
DESCRIPTION:Wedding Day Event
URL:https://marlsgate.com/event/private-wedding-on-may-4-2024/
LOCATION:Marlsgate\, 2700 Bear Skin Lake Rd\, Scott\, AR\, 72142\, United States
CATEGORIES:Wedding
ATTACH;FMTTYPE=image/jpeg:https://marlsgate.com/wp-content/uploads/2023/02/GettyImages-1397776923-scaled.jpg
END:VEVENT
BEGIN:VEVENT
DTSTART;VALUE=DATE:20240316
DTEND;VALUE=DATE:20240317
DTSTAMP:20260419T123517
CREATED:20240105T004943Z
LAST-MODIFIED:20240131T213952Z
UID:10000200-1710547200-1710633599@marlsgate.com
SUMMARY:Marlsgate Wedding
DESCRIPTION:Wedding Day Reservation
URL:https://marlsgate.com/event/private-wedding-on-march-16-2024/
LOCATION:Marlsgate\, 2700 Bear Skin Lake Rd\, Scott\, AR\, 72142\, United States
CATEGORIES:Private-Reserved,Wedding
ATTACH;FMTTYPE=image/jpeg:https://marlsgate.com/wp-content/uploads/2024/01/qtq80-I1TZIQ-scaled.jpeg
END:VEVENT
BEGIN:VEVENT
DTSTART;VALUE=DATE:20240127
DTEND;VALUE=DATE:20240128
DTSTAMP:20260419T123517
CREATED:20240105T004625Z
LAST-MODIFIED:20240125T194848Z
UID:10000199-1706313600-1706399999@marlsgate.com
SUMMARY:Marlsgate Wedding
DESCRIPTION:Marlsgate will be hosting a private wedding event.
URL:https://marlsgate.com/event/private-wedding-on-january-27-2024/
LOCATION:Marlsgate\, 2700 Bear Skin Lake Rd\, Scott\, AR\, 72142\, United States
CATEGORIES:Wedding
ATTACH;FMTTYPE=image/jpeg:https://marlsgate.com/wp-content/uploads/2024/01/qtq80-dGBVPW.jpeg
END:VEVENT
END:VCALENDAR