BEGIN:VCALENDAR
VERSION:2.0
PRODID:-//Marlsgate - ECPv6.15.15//NONSGML v1.0//EN
CALSCALE:GREGORIAN
METHOD:PUBLISH
X-ORIGINAL-URL:https://marlsgate.com
X-WR-CALDESC:Events for Marlsgate
REFRESH-INTERVAL;VALUE=DURATION:PT1H
X-Robots-Tag:noindex
X-PUBLISHED-TTL:PT1H
BEGIN:VTIMEZONE
TZID:America/New_York
BEGIN:DAYLIGHT
TZOFFSETFROM:-0500
TZOFFSETTO:-0400
TZNAME:EDT
DTSTART:20220313T070000
END:DAYLIGHT
BEGIN:STANDARD
TZOFFSETFROM:-0400
TZOFFSETTO:-0500
TZNAME:EST
DTSTART:20221106T060000
END:STANDARD
BEGIN:DAYLIGHT
TZOFFSETFROM:-0500
TZOFFSETTO:-0400
TZNAME:EDT
DTSTART:20230312T070000
END:DAYLIGHT
BEGIN:STANDARD
TZOFFSETFROM:-0400
TZOFFSETTO:-0500
TZNAME:EST
DTSTART:20231105T060000
END:STANDARD
BEGIN:DAYLIGHT
TZOFFSETFROM:-0500
TZOFFSETTO:-0400
TZNAME:EDT
DTSTART:20240310T070000
END:DAYLIGHT
BEGIN:STANDARD
TZOFFSETFROM:-0400
TZOFFSETTO:-0500
TZNAME:EST
DTSTART:20241103T060000
END:STANDARD
END:VTIMEZONE
BEGIN:VTIMEZONE
TZID:UTC
BEGIN:STANDARD
TZOFFSETFROM:+0000
TZOFFSETTO:+0000
TZNAME:UTC
DTSTART:20220101T000000
END:STANDARD
END:VTIMEZONE
BEGIN:VEVENT
DTSTART;TZID=America/New_York:20231117T100000
DTEND;TZID=America/New_York:20231222T170000
DTSTAMP:20260422T194217
CREATED:20231110T225236Z
LAST-MODIFIED:20231111T163747Z
UID:10000187-1700215200-1703264400@marlsgate.com
SUMMARY:OPEN!  The 1888 Carriage House Boutique
DESCRIPTION:Santa loves shopping for gifts at the 1888 Carriage House. Our curated collection of Arkansas artists\, vintage and unique clothing\, exquisite gifts and sterling silver\, and artist-designed fine pearl jewelry will make your gift-giving FUN!  Open every Thursday\, Friday\, and Saturday from 10:00 until 5:00\, or by appointment\, until December 22nd.  We can’t wait to see you….  870-717-2789
URL:https://marlsgate.com/event/1888-carraige-house-boutique/
LOCATION:Marlsgate\, 2700 Bear Skin Lake Rd\, Scott\, AR\, 72142\, United States
CATEGORIES:Christmas
ATTACH;FMTTYPE=image/jpeg:https://marlsgate.com/wp-content/uploads/2023/11/GettyImages-90798074-3-scaled.jpg
END:VEVENT
BEGIN:VEVENT
DTSTART;TZID=America/New_York:20231201T180000
DTEND;TZID=America/New_York:20231201T210000
DTSTAMP:20260422T194217
CREATED:20230907T135548Z
LAST-MODIFIED:20231111T164742Z
UID:10000149-1701453600-1701464400@marlsgate.com
SUMMARY:SOLD OUT.   Lighting of the Christmas Tree & Candlelight Dinner
DESCRIPTION:SOLD OUT.  Our official first day of Christmas begins with the Lighting of the Christmas Tree at 6:00 on the Central Landing inside historic Marlsgate. A beautiful Candlelight Christmas dinner will follow the tree-lighting ceremony.  Kick off the joyous holiday season at Marlsgate and unlock the Christmas magic by candlelight.  Your table will be set with beautiful crystal and china from generations of family collections. We will have traditional Christmas music\, and roaring fires in every room. \nBy reservation only. \n 
URL:https://marlsgate.com/event/christmas-candlelight-dinner-2/
LOCATION:Marlsgate\, 2700 Bear Skin Lake Rd\, Scott\, AR\, 72142\, United States
CATEGORIES:Christmas
ATTACH;FMTTYPE=image/jpeg:https://marlsgate.com/wp-content/uploads/2023/08/Marlsgate-Tree-scaled.jpg
END:VEVENT
BEGIN:VEVENT
DTSTART;TZID=America/New_York:20231202T150000
DTEND;TZID=America/New_York:20231202T170000
DTSTAMP:20260422T194217
CREATED:20230831T223638Z
LAST-MODIFIED:20231202T025018Z
UID:10000126-1701529200-1701536400@marlsgate.com
SUMMARY:SOLD OUT-Children's "Road To Bethlehem" Experience
DESCRIPTION:Bring your children to experience the true meaning of Christmas. Marlsgate’s precious donkey\, sheep\, and goat will welcome our littlest guests to their small stable and will join them for photographs. Inside\, we will share the children’s storybook\, “Road to Bethlehem”. Copies of the book will be available to reserve and take home. By reservation only.
URL:https://marlsgate.com/event/childrens-road-to-bethlehem-experience/
LOCATION:Marlsgate\, 2700 Bear Skin Lake Rd\, Scott\, AR\, 72142\, United States
CATEGORIES:Christmas
ATTACH;FMTTYPE=image/jpeg:https://marlsgate.com/wp-content/uploads/2023/08/GettyImages-1438984250-scaled.jpg
END:VEVENT
BEGIN:VEVENT
DTSTART;VALUE=DATE:20231205
DTEND;VALUE=DATE:20231206
DTSTAMP:20260422T194217
CREATED:20230906T201730Z
LAST-MODIFIED:20231111T165150Z
UID:10000138-1701734400-1701820799@marlsgate.com
SUMMARY:Private Party-Reserved
DESCRIPTION:Marlsgate will be closed for a private party. If you would like more information on hosting your event at Marlsgate please visit our website or call 870-717-2789
URL:https://marlsgate.com/event/private-party-closed-6/
LOCATION:Marlsgate\, 2700 Bear Skin Lake Rd\, Scott\, AR\, 72142\, United States
CATEGORIES:Private-Reserved
ATTACH;FMTTYPE=image/jpeg:https://marlsgate.com/wp-content/uploads/2023/02/GettyImages-1345166471-scaled.jpg
END:VEVENT
BEGIN:VEVENT
DTSTART;TZID=America/New_York:20231206T140000
DTEND;TZID=America/New_York:20231206T170000
DTSTAMP:20260422T194218
CREATED:20230831T225142Z
LAST-MODIFIED:20231124T204707Z
UID:10000128-1701871200-1701882000@marlsgate.com
SUMMARY:SOLD OUT-Christmas Afternoon Tea
DESCRIPTION:“If you are cold\, tea will warm you; if you are too heated\, it will cool you; If you are excited\, it will calm you.” We will celebrate an afternoon of elegant tea each Wednesday in December at 2:00 p.m.  Florals and fragrances\,  Teas\, and tempting treats\, along with Sweets and savories.  A feast for the eyes and for your silver forks.  Let’s gather together and enjoy a timeless celebration during the most wonderful time of the year. \nWednesday\, December 6th at 2:00 \nWednesday\, December 13th at 2:00 \nWednesday\, December 20th at 2:00
URL:https://marlsgate.com/event/christmas-afternoon-tea/
LOCATION:Marlsgate\, 2700 Bear Skin Lake Rd\, Scott\, AR\, 72142\, United States
CATEGORIES:Christmas
ATTACH;FMTTYPE=image/jpeg:https://marlsgate.com/wp-content/uploads/2023/08/GettyImages-118428644-1-scaled.jpg
END:VEVENT
BEGIN:VEVENT
DTSTART;VALUE=DATE:20231207
DTEND;VALUE=DATE:20231208
DTSTAMP:20260422T194218
CREATED:20230906T201907Z
LAST-MODIFIED:20231111T164828Z
UID:10000139-1701907200-1701993599@marlsgate.com
SUMMARY:Private Party-Reserved
DESCRIPTION:Marlsgate will be closed for a private party. If you would like more information on hosting your event at Marlsgate please visit our website or call 870-717-2789
URL:https://marlsgate.com/event/private-party-closed-7/
LOCATION:Marlsgate\, 2700 Bear Skin Lake Rd\, Scott\, AR\, 72142\, United States
CATEGORIES:Private Party
ATTACH;FMTTYPE=image/jpeg:https://marlsgate.com/wp-content/uploads/2023/02/GettyImages-1328496703-scaled.jpg
END:VEVENT
BEGIN:VEVENT
DTSTART;TZID=America/New_York:20231209T113000
DTEND;TZID=America/New_York:20231209T140000
DTSTAMP:20260422T194218
CREATED:20230831T231828Z
LAST-MODIFIED:20231111T164609Z
UID:10000132-1702121400-1702130400@marlsgate.com
SUMMARY:SOLD OUT.....    Traditional Christmas Brunch
DESCRIPTION:SOLD OUT.  Join us for our Marlsgate annual tradition for families and friends. Our classic brunch will feature all the favorite holiday foods\, and fires in all the fireplaces will set the tone with Christmas music along with the most elegant holiday decor. If you have never seen Marlsgate in all its splendor during the holiday season you need to visit us for our annual holiday brunch. \n 
URL:https://marlsgate.com/event/traditional-christmas-brunch/
LOCATION:Marlsgate\, 2700 Bear Skin Lake Rd\, Scott\, AR\, 72142\, United States
CATEGORIES:Christmas
ATTACH;FMTTYPE=image/jpeg:https://marlsgate.com/wp-content/uploads/2021/10/qtq80-ks8qSy.jpeg
END:VEVENT
BEGIN:VEVENT
DTSTART;TZID=America/New_York:20231209T170000
DTEND;TZID=America/New_York:20231209T200000
DTSTAMP:20260422T194218
CREATED:20230831T231941Z
LAST-MODIFIED:20231202T025136Z
UID:10000133-1702141200-1702152000@marlsgate.com
SUMMARY:SOLD OUT-"Polar Express" in the Marlsgate Party Tent
DESCRIPTION:Join us in the Party Tent for this Holiday classic. We will show the movie “Polar Express” on our 14-foot tall movie screen.  Each child will take home a classic bell to commemorate our time together.  The book “Polar Express” will be available to reserve and take home.  We will have a Hot Chocolate Bar\, Popcorn\, Hot Dogs\, and Cotton Candy. \nParents are welcome to watch the movie with their littles. OR\, our Marlsgate Staff will tend the children\, and the parents are welcome to enjoy an Adult Yuletide inside Marlsgate with Christmas music\, roaring fires\, and beautiful charcuterie boards filled with seasonal treats. \nBoth experiences are by reservation only. \nChildren $42.00 \nAdults $40.00
URL:https://marlsgate.com/event/polar-express-in-the-marlsgate-party-tent/
LOCATION:Marlsgate\, 2700 Bear Skin Lake Rd\, Scott\, AR\, 72142\, United States
CATEGORIES:Christmas
ATTACH;FMTTYPE=image/jpeg:https://marlsgate.com/wp-content/uploads/2023/08/GettyImages-531100811-scaled.jpg
END:VEVENT
BEGIN:VEVENT
DTSTART;VALUE=DATE:20231212
DTEND;VALUE=DATE:20231213
DTSTAMP:20260422T194218
CREATED:20230906T202250Z
LAST-MODIFIED:20231111T164505Z
UID:10000140-1702339200-1702425599@marlsgate.com
SUMMARY:Private Party-Reserved
DESCRIPTION:Marlsgate will be closed for a private party. If you would like more information on hosting your event at Marlsgate please visit our website or call 870-717-2789
URL:https://marlsgate.com/event/private-party-reserved/
LOCATION:Marlsgate\, 2700 Bear Skin Lake Rd\, Scott\, AR\, 72142\, United States
CATEGORIES:Private Party
ATTACH;FMTTYPE=image/jpeg:https://marlsgate.com/wp-content/uploads/2023/02/GettyImages-901453894-scaled.jpg
END:VEVENT
BEGIN:VEVENT
DTSTART;TZID=America/New_York:20231213T140000
DTEND;TZID=America/New_York:20231213T170000
DTSTAMP:20260422T194218
CREATED:20230906T214642Z
LAST-MODIFIED:20231202T025237Z
UID:10000135-1702476000-1702486800@marlsgate.com
SUMMARY:SOLD OUT-Christmas Afternoon Tea
DESCRIPTION:“If you are cold\, tea will warm you; if you are too heated\, it will cool you; If you are excited\, it will calm you.” We will celebrate an afternoon of elegant tea each Wednesday in December at 2:00 p.m.  Florals and fragrances\,  Teas\, and tempting treats\, along with Sweets and savories.  A feast for the eyes and for your silver forks.  Let’s gather together and enjoy a timeless celebration during the most wonderful time of the year. \nWednesday\, December 6th at 2:00 \nWednesday\, December 13th at 2:00 \nWednesday\, December 20th at 2:00 \n 
URL:https://marlsgate.com/event/christmas-afternoon-tea-3/
LOCATION:Marlsgate\, 2700 Bear Skin Lake Rd\, Scott\, AR\, 72142\, United States
CATEGORIES:Christmas
ATTACH;FMTTYPE=image/jpeg:https://marlsgate.com/wp-content/uploads/2023/08/GettyImages-118428644-1-scaled.jpg
END:VEVENT
BEGIN:VEVENT
DTSTART;VALUE=DATE:20231215
DTEND;VALUE=DATE:20231216
DTSTAMP:20260422T194218
CREATED:20230906T202428Z
LAST-MODIFIED:20231111T164352Z
UID:10000141-1702598400-1702684799@marlsgate.com
SUMMARY:Private Party-Reserved
DESCRIPTION:Marlsgate will be closed for a private party. If you would like more information on hosting your event at Marlsgate please visit our website or call 870-717-2789
URL:https://marlsgate.com/event/private-party-reserved-2/
LOCATION:Marlsgate\, 2700 Bear Skin Lake Rd\, Scott\, AR\, 72142\, United States
CATEGORIES:Private-Reserved
ATTACH;FMTTYPE=image/jpeg:https://marlsgate.com/wp-content/uploads/2023/09/GettyImages-1643376630-scaled.jpg
END:VEVENT
BEGIN:VEVENT
DTSTART;VALUE=DATE:20231216
DTEND;VALUE=DATE:20231217
DTSTAMP:20260422T194218
CREATED:20230906T202957Z
LAST-MODIFIED:20231111T164324Z
UID:10000144-1702684800-1702771199@marlsgate.com
SUMMARY:Private Party-Reserved
DESCRIPTION:Marlsgate will be closed for a private party. If you would like more information on hosting your event at Marlsgate please visit our website or call 870-717-2789
URL:https://marlsgate.com/event/private-party-reserved-3/
LOCATION:Marlsgate\, 2700 Bear Skin Lake Rd\, Scott\, AR\, 72142\, United States
CATEGORIES:Private-Reserved
ATTACH;FMTTYPE=image/jpeg:https://marlsgate.com/wp-content/uploads/2023/02/GettyImages-sb10066737j-001-scaled.jpg
END:VEVENT
BEGIN:VEVENT
DTSTART;TZID=America/New_York:20231220T140000
DTEND;TZID=America/New_York:20231220T170000
DTSTAMP:20260422T194218
CREATED:20230906T213958Z
LAST-MODIFIED:20231202T025534Z
UID:10000136-1703080800-1703091600@marlsgate.com
SUMMARY:SOLD OUT-Christmas Afternoon Tea
DESCRIPTION:“If you are cold\, tea will warm you; if you are too heated\, it will cool you; If you are excited\, it will calm you.” We will celebrate an afternoon of elegant tea each Wednesday in December at 2:00 p.m.  Florals and fragrances\,  Teas\, and tempting treats\, along with Sweets and savories.  A feast for the eyes and for your silver forks.  Let’s gather together and enjoy a timeless celebration during the most wonderful time of the year. \nWednesday\, December 6th at 2:00 \nWednesday\, December 13th at 2:00 \nWednesday\, December 20th at 2:00
URL:https://marlsgate.com/event/christmas-afternoon-tea-2/
LOCATION:Marlsgate\, 2700 Bear Skin Lake Rd\, Scott\, AR\, 72142\, United States
CATEGORIES:Christmas
ATTACH;FMTTYPE=image/jpeg:https://marlsgate.com/wp-content/uploads/2023/08/GettyImages-118428644-1-scaled.jpg
END:VEVENT
BEGIN:VEVENT
DTSTART;TZID=America/New_York:20231222T170000
DTEND;TZID=America/New_York:20231222T200000
DTSTAMP:20260422T194218
CREATED:20230831T232626Z
LAST-MODIFIED:20231202T025445Z
UID:10000134-1703264400-1703275200@marlsgate.com
SUMMARY:SOLD OUT-Ho! Ho! Ho! and Mistletoe in the Marlsgate Party Tent
DESCRIPTION:WHO DOESN’T LOVE SANTA?  Well\, join us to see Santa in person at the Marlsgate Party Tent for Christmas lists and photographs!  We will have a Hot Chocolate Bar\, Chilly Chili Bar\, Mac + Cheese Bar\, and Christmas Sundaes + Cookies.  By reservation. \nAdults $45.00 \nChildren $35.00
URL:https://marlsgate.com/event/ho-ho-ho-and-mistletoe-in-the-marlsgate-party-tent/
LOCATION:Marlsgate\, 2700 Bear Skin Lake Rd\, Scott\, AR\, 72142\, United States
CATEGORIES:Christmas
ATTACH;FMTTYPE=image/jpeg:https://marlsgate.com/wp-content/uploads/2023/08/GettyImages-104302640-scaled.jpg
END:VEVENT
BEGIN:VEVENT
DTSTART;VALUE=DATE:20231223
DTEND;VALUE=DATE:20231228
DTSTAMP:20260422T194218
CREATED:20230906T202713Z
LAST-MODIFIED:20231111T164118Z
UID:10000142-1703289600-1703721599@marlsgate.com
SUMMARY:Marlsgate Private Family Gathering
DESCRIPTION:Christmas adds to the warmth of family love and each Christmas\, my heart swells bigger from family. We wish you a very happy holiday with your loved ones. \nSo we can celebrate the season with our family Marlsgate will be closed for a private gathering. \nIf you would like more information on hosting your private  event at Marlsgate please call 870-717-2789 \n  \n 
URL:https://marlsgate.com/event/marlsgate-is-closed-for-family-celebrations/
LOCATION:Marlsgate\, 2700 Bear Skin Lake Rd\, Scott\, AR\, 72142\, United States
CATEGORIES:Private-Reserved
ATTACH;FMTTYPE=image/jpeg:https://marlsgate.com/wp-content/uploads/2021/12/Image-Kerksieck-Wedding-1.jpg
END:VEVENT
BEGIN:VEVENT
DTSTART;TZID=UTC:20231228T170000
DTEND;TZID=UTC:20231228T200000
DTSTAMP:20260422T194218
CREATED:20230425T203713Z
LAST-MODIFIED:20231111T164047Z
UID:10000004-1703782800-1703793600@marlsgate.com
SUMMARY:Cooking Class Reserved
DESCRIPTION:“Private” Cooking Schools… YOUR favorite thing. And we love them\, too! \nGather a group of 8-16 friends and create a menu. Come out and toast\, stir\, laugh\, and feast. Making recipes and making memories\, the Marlsgate way!
URL:https://marlsgate.com/event/cooking-classes-2/
LOCATION:Marlsgate\, 2700 Bear Skin Lake Rd\, Scott\, AR\, 72142\, United States
CATEGORIES:Cooking School
ATTACH;FMTTYPE=image/jpeg:https://marlsgate.com/wp-content/uploads/2023/02/GettyImages-668771569-scaled.jpg
END:VEVENT
BEGIN:VEVENT
DTSTART;TZID=America/New_York:20231231T180000
DTEND;TZID=America/New_York:20231231T210000
DTSTAMP:20260422T194218
CREATED:20230906T215504Z
LAST-MODIFIED:20231207T161113Z
UID:10000146-1704045600-1704056400@marlsgate.com
SUMMARY:SOLD OUT-Elegant New Year's Eve
DESCRIPTION:We will celebrate the close of 2023 with a classic evening of fine dining and music. Join us for a magnificent Marlsgate dinner before you head out for your midnight celebration. \n“May the New Year bless you with health\, wealth\, and happiness.”
URL:https://marlsgate.com/event/elegant-new-years-eve/
LOCATION:Marlsgate\, 2700 Bear Skin Lake Rd\, Scott\, AR\, 72142\, United States
CATEGORIES:New Years Eve Celebration
ATTACH;FMTTYPE=image/jpeg:https://marlsgate.com/wp-content/uploads/2023/08/MVIMG_20180106_103438-scaled.jpg
END:VEVENT
END:VCALENDAR