BEGIN:VCALENDAR
VERSION:2.0
PRODID:-//Marlsgate - ECPv6.15.15//NONSGML v1.0//EN
CALSCALE:GREGORIAN
METHOD:PUBLISH
X-ORIGINAL-URL:https://marlsgate.com
X-WR-CALDESC:Events for Marlsgate
REFRESH-INTERVAL;VALUE=DURATION:PT1H
X-Robots-Tag:noindex
X-PUBLISHED-TTL:PT1H
BEGIN:VTIMEZONE
TZID:America/New_York
BEGIN:DAYLIGHT
TZOFFSETFROM:-0500
TZOFFSETTO:-0400
TZNAME:EDT
DTSTART:20230312T070000
END:DAYLIGHT
BEGIN:STANDARD
TZOFFSETFROM:-0400
TZOFFSETTO:-0500
TZNAME:EST
DTSTART:20231105T060000
END:STANDARD
BEGIN:DAYLIGHT
TZOFFSETFROM:-0500
TZOFFSETTO:-0400
TZNAME:EDT
DTSTART:20240310T070000
END:DAYLIGHT
BEGIN:STANDARD
TZOFFSETFROM:-0400
TZOFFSETTO:-0500
TZNAME:EST
DTSTART:20241103T060000
END:STANDARD
BEGIN:DAYLIGHT
TZOFFSETFROM:-0500
TZOFFSETTO:-0400
TZNAME:EDT
DTSTART:20250309T070000
END:DAYLIGHT
BEGIN:STANDARD
TZOFFSETFROM:-0400
TZOFFSETTO:-0500
TZNAME:EST
DTSTART:20251102T060000
END:STANDARD
END:VTIMEZONE
BEGIN:VEVENT
DTSTART;VALUE=DATE:20240302
DTEND;VALUE=DATE:20240303
DTSTAMP:20260422T135534
CREATED:20240105T004421Z
LAST-MODIFIED:20240125T210833Z
UID:10000198-1709337600-1709423999@marlsgate.com
SUMMARY:Private Event -- Bride's Luncheon
DESCRIPTION:Call us for information on creating your own Bride’s Luncheon at Marlsgate….
URL:https://marlsgate.com/event/private-event-brides-luncheon-on-march-2-2024/
LOCATION:Marlsgate\, 2700 Bear Skin Lake Rd\, Scott\, AR\, 72142\, United States
CATEGORIES:Private-Reserved
ATTACH;FMTTYPE=image/jpeg:https://marlsgate.com/wp-content/uploads/2024/01/qtq80-6Fcm56-scaled.jpeg
END:VEVENT
BEGIN:VEVENT
DTSTART;TZID=America/New_York:20240312T173000
DTEND;TZID=America/New_York:20240312T203000
DTSTAMP:20260422T135534
CREATED:20240226T212049Z
LAST-MODIFIED:20240305T135522Z
UID:10000222-1710264600-1710275400@marlsgate.com
SUMMARY:Marlsgate Cooking School March 12\, 2024
DESCRIPTION:Lisa stirred up some fun in the Marlsgate kitchens with her Mardi Gras Cooking School!  We are back to spice things up with another Cooking School on March 12\, 2024 from 5:30 until 8:30. \nWe promise excellent recipes\, interactive learning\, and a delish dinner (created by you!) in the Marlsgate Dining Room….  It is an experience you will not forget — and you will want to repeat!  We can’t wait to see you!
URL:https://marlsgate.com/event/carriage-house-luncheon-and-shopping-on-february-29-2024-2/
LOCATION:Marlsgate\, 2700 Bear Skin Lake Rd\, Scott\, AR\, 72142\, United States
CATEGORIES:Cooking School
END:VEVENT
BEGIN:VEVENT
DTSTART;VALUE=DATE:20240316
DTEND;VALUE=DATE:20240317
DTSTAMP:20260422T135534
CREATED:20240105T004943Z
LAST-MODIFIED:20240131T213952Z
UID:10000200-1710547200-1710633599@marlsgate.com
SUMMARY:Marlsgate Wedding
DESCRIPTION:Wedding Day Reservation
URL:https://marlsgate.com/event/private-wedding-on-march-16-2024/
LOCATION:Marlsgate\, 2700 Bear Skin Lake Rd\, Scott\, AR\, 72142\, United States
CATEGORIES:Private-Reserved,Wedding
ATTACH;FMTTYPE=image/jpeg:https://marlsgate.com/wp-content/uploads/2024/01/qtq80-I1TZIQ-scaled.jpeg
END:VEVENT
BEGIN:VEVENT
DTSTART;TZID=America/New_York:20240321T113000
DTEND;TZID=America/New_York:20240321T150000
DTSTAMP:20260422T135534
CREATED:20240222T023735Z
LAST-MODIFIED:20240226T211043Z
UID:10000220-1711020600-1711033200@marlsgate.com
SUMMARY:Carriage House Luncheon on March 21\, 2024
DESCRIPTION:Luncheon\, tour and shopping in the Carriage House for 2 guests.
URL:https://marlsgate.com/event/carriage-house-luncheon-for-2-guests-kristy-m/
LOCATION:Marlsgate\, 2700 Bear Skin Lake Rd\, Scott\, AR\, 72142\, United States
END:VEVENT
BEGIN:VEVENT
DTSTART;TZID=America/New_York:20240330T110000
DTEND;TZID=America/New_York:20240330T150000
DTSTAMP:20260422T135534
CREATED:20240105T002133Z
LAST-MODIFIED:20240309T154027Z
UID:10000196-1711796400-1711810800@marlsgate.com
SUMMARY:Easter Egg-stravaganza CROP DUSTER Egg Drop!
DESCRIPTION:Our most popular event!  Easter Eggs are dropped from the Crop Duster over the Marlsgate Pecan Grove.  Join us at 11:00 am. \nEGG HUNT: \n\nDesignated Areas for Children under 3 years old\nThe Crop Duster will fly over the Pecan Grove and drop 2\,000 eggs\nPrize Eggs will be awarded\n$15 per Easter Basket\nChildren 1 and under may hunt without a ticket\nAdults do not need a ticket — unless they are picking up eggs!!\n\nBrunch follows the Egg Hunt in the Party Tent….. \n\nChildren under 4 enjoy Brunch FREE.\nChildren 5-12 enjoy Brunch for $25.\nAdults enjoy Brunch for $35.\n\nBRUNCH MENU…. \n\nFresh Fruits.\nCreate your own Omelet Station.\nChicken and Waffles.\nMarlsgate’s “famous” homemade Cinnamon Rolls.\nIce Cream Bar.\nLots of food.  Lots of FUN.\n\n 
URL:https://marlsgate.com/event/easter-egg-stravaganza-crop-duster-egg-drop-saturday-march-30-2024-at-1100-am/
LOCATION:Marlsgate\, 2700 Bear Skin Lake Rd\, Scott\, AR\, 72142\, United States
CATEGORIES:Easter
ATTACH;FMTTYPE=image/jpeg:https://marlsgate.com/wp-content/uploads/2024/01/Easter-2023.jpg
END:VEVENT
BEGIN:VEVENT
DTSTART;TZID=America/New_York:20240331T123000
DTEND;TZID=America/New_York:20240331T153000
DTSTAMP:20260422T135534
CREATED:20240105T010028Z
LAST-MODIFIED:20240311T181218Z
UID:10000203-1711888200-1711899000@marlsgate.com
SUMMARY:Easter Brunch
DESCRIPTION:Easter Brunch at Marlsgate….  The most beautiful setting and the most delicious menu!  Tickets will be $30 for children under 12 and $60 for adults.  We hope you will linger after Brunch and enjoy the estate gardens and grounds….  We can’t wait to see you!
URL:https://marlsgate.com/event/easter-brunch-on-sunday-march-31-2024/
LOCATION:Marlsgate\, 2700 Bear Skin Lake Rd\, Scott\, AR\, 72142\, United States
CATEGORIES:Easter
ATTACH;FMTTYPE=image/jpeg:https://marlsgate.com/wp-content/uploads/2024/01/Marlsgate-IMAGE-Easter-Brunch-2024-scaled.jpg
END:VEVENT
END:VCALENDAR