BEGIN:VCALENDAR
VERSION:2.0
PRODID:-//Marlsgate - ECPv6.15.15//NONSGML v1.0//EN
CALSCALE:GREGORIAN
METHOD:PUBLISH
X-WR-CALNAME:Marlsgate
X-ORIGINAL-URL:https://marlsgate.com
X-WR-CALDESC:Events for Marlsgate
REFRESH-INTERVAL;VALUE=DURATION:PT1H
X-Robots-Tag:noindex
X-PUBLISHED-TTL:PT1H
BEGIN:VTIMEZONE
TZID:America/New_York
BEGIN:DAYLIGHT
TZOFFSETFROM:-0500
TZOFFSETTO:-0400
TZNAME:EDT
DTSTART:20230312T070000
END:DAYLIGHT
BEGIN:STANDARD
TZOFFSETFROM:-0400
TZOFFSETTO:-0500
TZNAME:EST
DTSTART:20231105T060000
END:STANDARD
BEGIN:DAYLIGHT
TZOFFSETFROM:-0500
TZOFFSETTO:-0400
TZNAME:EDT
DTSTART:20240310T070000
END:DAYLIGHT
BEGIN:STANDARD
TZOFFSETFROM:-0400
TZOFFSETTO:-0500
TZNAME:EST
DTSTART:20241103T060000
END:STANDARD
BEGIN:DAYLIGHT
TZOFFSETFROM:-0500
TZOFFSETTO:-0400
TZNAME:EDT
DTSTART:20250309T070000
END:DAYLIGHT
BEGIN:STANDARD
TZOFFSETFROM:-0400
TZOFFSETTO:-0500
TZNAME:EST
DTSTART:20251102T060000
END:STANDARD
END:VTIMEZONE
BEGIN:VEVENT
DTSTART;TZID=America/New_York:20240408T113000
DTEND;TZID=America/New_York:20240408T153000
DTSTAMP:20260422T102152
CREATED:20240307T195205Z
LAST-MODIFIED:20240307T195205Z
UID:10000227-1712575800-1712590200@marlsgate.com
SUMMARY:Solar Eclipse Luncheon April 8\, 2024 at Noon
DESCRIPTION:Experience the Solar Eclipse at Marlsgate…..  Away from the city and crowds and distracting lighting.  Surrounded by the beauty of Marlsgate\, the pecan orchard\, and Bearskin Lake…. \nGather at noon for a luncheon and great company.  Enjoy a full tour of the estate\, including two public floors of the four-story main house\, the 1888 Carriage House\, the glass Conservatory\, and P. Allen Smith’s 35 year old gardens…. \nAt 2:00\, we will share in the Total Solar Eclipse together. \nWhat a memorable way to celebrate this remarkable event!
URL:https://marlsgate.com/event/solar-eclipse-luncheon-april-8-2024-at-noon/
LOCATION:Marlsgate\, 2700 Bear Skin Lake Rd\, Scott\, AR\, 72142\, United States
ATTACH;FMTTYPE=image/jpeg:https://marlsgate.com/wp-content/uploads/2024/03/Marlsgate-IMAGE-Solar-Eclipse-Luncheon-April-8-2024-scaled.jpg
END:VEVENT
BEGIN:VEVENT
DTSTART;TZID=America/New_York:20240418T150000
DTEND;TZID=America/New_York:20240418T170000
DTSTAMP:20260422T102152
CREATED:20240229T233258Z
LAST-MODIFIED:20240229T235403Z
UID:10000226-1713452400-1713459600@marlsgate.com
SUMMARY:Private Party -- Afternoon Tea
DESCRIPTION:This Tea Party is a private celebration of 50 friends….  We would love to help you plan your own party!  Just text (870-717-2789) or email (info@marlsgate.com)!
URL:https://marlsgate.com/event/private-party-afternoon-tea/
LOCATION:Marlsgate\, 2700 Bear Skin Lake Rd\, Scott\, AR\, 72142\, United States
ATTACH;FMTTYPE=image/jpeg:https://marlsgate.com/wp-content/uploads/2024/01/qtq80-0G08mr-scaled.jpeg
END:VEVENT
BEGIN:VEVENT
DTSTART;TZID=America/New_York:20240420T150000
DTEND;TZID=America/New_York:20240420T210000
DTSTAMP:20260422T102152
CREATED:20240328T015339Z
LAST-MODIFIED:20240328T015339Z
UID:10000229-1713625200-1713646800@marlsgate.com
SUMMARY:Private Event -- Skully Smokes Cigar Celebration and Dinner
DESCRIPTION:This popular\, bi-annual event in the Party Tent is a private evening of fine cigars\, high-end vendors\, and cigar fans gathered for fine dining\, fine conversation\, and FUN.  Connect with Skully online for details!
URL:https://marlsgate.com/event/private-event-skully-smokes-cigar-celebration-and-dinner/
LOCATION:Marlsgate\, 2700 Bear Skin Lake Rd\, Scott\, AR\, 72142\, United States
CATEGORIES:Live Music,Marlsgate Dinners,Private Party
ATTACH;FMTTYPE=image/jpeg:https://marlsgate.com/wp-content/uploads/2024/03/qtq80-ACFUvl.jpeg
END:VEVENT
BEGIN:VEVENT
DTSTART;TZID=America/New_York:20240421T150000
DTEND;TZID=America/New_York:20240421T170000
DTSTAMP:20260422T102152
CREATED:20240229T020609Z
LAST-MODIFIED:20240229T020609Z
UID:10000224-1713711600-1713718800@marlsgate.com
SUMMARY:SPRING STRINGS on Sunday\, April 21st\, 2024
DESCRIPTION:
URL:https://marlsgate.com/event/spring-strings-on-sunday-april-21st-2024/
LOCATION:Marlsgate\, 2700 Bear Skin Lake Rd\, Scott\, AR\, 72142\, United States
CATEGORIES:Live Music
ATTACH;FMTTYPE=image/jpeg:https://marlsgate.com/wp-content/uploads/2024/02/Marlsgate-IMAGE-Spring-Strings-April-21-and-May-26-2024-scaled.jpg
END:VEVENT
END:VCALENDAR