BEGIN:VCALENDAR
VERSION:2.0
PRODID:-//Marlsgate - ECPv6.15.15//NONSGML v1.0//EN
CALSCALE:GREGORIAN
METHOD:PUBLISH
X-ORIGINAL-URL:https://marlsgate.com
X-WR-CALDESC:Events for Marlsgate
REFRESH-INTERVAL;VALUE=DURATION:PT1H
X-Robots-Tag:noindex
X-PUBLISHED-TTL:PT1H
BEGIN:VTIMEZONE
TZID:America/New_York
BEGIN:DAYLIGHT
TZOFFSETFROM:-0500
TZOFFSETTO:-0400
TZNAME:EDT
DTSTART:20230312T070000
END:DAYLIGHT
BEGIN:STANDARD
TZOFFSETFROM:-0400
TZOFFSETTO:-0500
TZNAME:EST
DTSTART:20231105T060000
END:STANDARD
BEGIN:DAYLIGHT
TZOFFSETFROM:-0500
TZOFFSETTO:-0400
TZNAME:EDT
DTSTART:20240310T070000
END:DAYLIGHT
BEGIN:STANDARD
TZOFFSETFROM:-0400
TZOFFSETTO:-0500
TZNAME:EST
DTSTART:20241103T060000
END:STANDARD
BEGIN:DAYLIGHT
TZOFFSETFROM:-0500
TZOFFSETTO:-0400
TZNAME:EDT
DTSTART:20250309T070000
END:DAYLIGHT
BEGIN:STANDARD
TZOFFSETFROM:-0400
TZOFFSETTO:-0500
TZNAME:EST
DTSTART:20251102T060000
END:STANDARD
END:VTIMEZONE
BEGIN:VEVENT
DTSTART;VALUE=DATE:20240504
DTEND;VALUE=DATE:20240505
DTSTAMP:20260422T063510
CREATED:20240105T005119Z
LAST-MODIFIED:20240125T210612Z
UID:10000201-1714780800-1714867199@marlsgate.com
SUMMARY:Marlsgate Wedding
DESCRIPTION:Wedding Day Event
URL:https://marlsgate.com/event/private-wedding-on-may-4-2024/
LOCATION:Marlsgate\, 2700 Bear Skin Lake Rd\, Scott\, AR\, 72142\, United States
CATEGORIES:Wedding
ATTACH;FMTTYPE=image/jpeg:https://marlsgate.com/wp-content/uploads/2023/02/GettyImages-1397776923-scaled.jpg
END:VEVENT
BEGIN:VEVENT
DTSTART;VALUE=DATE:20240511
DTEND;VALUE=DATE:20240512
DTSTAMP:20260422T063510
CREATED:20240326T155841Z
LAST-MODIFIED:20240326T155841Z
UID:10000228-1715385600-1715471999@marlsgate.com
SUMMARY:Marlsgate Wedding -- Private Event
DESCRIPTION:
URL:https://marlsgate.com/event/marlsgate-wedding-private-event/
LOCATION:Marlsgate\, 2700 Bear Skin Lake Rd\, Scott\, AR\, 72142\, United States
ATTACH;FMTTYPE=image/jpeg:https://marlsgate.com/wp-content/uploads/2024/03/4A2A1140-scaled.jpg
END:VEVENT
BEGIN:VEVENT
DTSTART;TZID=America/New_York:20240512T123000
DTEND;TZID=America/New_York:20240512T153000
DTSTAMP:20260422T063510
CREATED:20240105T005559Z
LAST-MODIFIED:20240125T194105Z
UID:10000202-1715517000-1715527800@marlsgate.com
SUMMARY:Mothers Day Brunch
DESCRIPTION:Celebrate the amazing women in your life with us at Marlsgate. We will post the menu soon!  Tickets will be $55 per guest….
URL:https://marlsgate.com/event/mothers-day-brunch-on-may-12-2024/
LOCATION:Marlsgate\, 2700 Bear Skin Lake Rd\, Scott\, AR\, 72142\, United States
CATEGORIES:Mother's Day
ATTACH;FMTTYPE=image/jpeg:https://marlsgate.com/wp-content/uploads/2023/08/MVIMG_20180106_103438-scaled.jpg
END:VEVENT
BEGIN:VEVENT
DTSTART;TZID=America/New_York:20240514T160000
DTEND;TZID=America/New_York:20240514T180000
DTSTAMP:20260422T063510
CREATED:20240513T164811Z
LAST-MODIFIED:20240513T164811Z
UID:10000230-1715702400-1715709600@marlsgate.com
SUMMARY:Private Celebration -- May 14\, 2024
DESCRIPTION:We LOVE to create a Private Celebration at Marlsgate….  Please let us know if we can help you plan yours!  870-717-2789
URL:https://marlsgate.com/event/private-celebration-may-14-2024/
LOCATION:Marlsgate\, 2700 Bear Skin Lake Rd\, Scott\, AR\, 72142\, United States
CATEGORIES:Private Party
END:VEVENT
BEGIN:VEVENT
DTSTART;TZID=America/New_York:20240526T150000
DTEND;TZID=America/New_York:20240526T170000
DTSTAMP:20260422T063510
CREATED:20240229T021218Z
LAST-MODIFIED:20240521T141743Z
UID:10000225-1716735600-1716742800@marlsgate.com
SUMMARY:RESCHEDULED DUE TO HEAT -- Spring Strings on May 26th\, 2024
DESCRIPTION:  WE ARE RESCHEDULING THE SPRING STRINGS DUE TO AFTERNOON TEMPERATURES ABOVE 90 DEGREES…..  WE WISH EVERYONE A SAFE AND COMFORTABLE MEMORIAL DAY WEEKEND!
URL:https://marlsgate.com/event/spring-strings-on-may-26th-2024/
LOCATION:Marlsgate\, 2700 Bear Skin Lake Rd\, Scott\, AR\, 72142\, United States
CATEGORIES:Live Music
END:VEVENT
END:VCALENDAR