BEGIN:VCALENDAR
VERSION:2.0
PRODID:-//Marlsgate - ECPv6.15.15//NONSGML v1.0//EN
CALSCALE:GREGORIAN
METHOD:PUBLISH
X-ORIGINAL-URL:https://marlsgate.com
X-WR-CALDESC:Events for Marlsgate
REFRESH-INTERVAL;VALUE=DURATION:PT1H
X-Robots-Tag:noindex
X-PUBLISHED-TTL:PT1H
BEGIN:VTIMEZONE
TZID:America/New_York
BEGIN:DAYLIGHT
TZOFFSETFROM:-0500
TZOFFSETTO:-0400
TZNAME:EDT
DTSTART:20230312T070000
END:DAYLIGHT
BEGIN:STANDARD
TZOFFSETFROM:-0400
TZOFFSETTO:-0500
TZNAME:EST
DTSTART:20231105T060000
END:STANDARD
BEGIN:DAYLIGHT
TZOFFSETFROM:-0500
TZOFFSETTO:-0400
TZNAME:EDT
DTSTART:20240310T070000
END:DAYLIGHT
BEGIN:STANDARD
TZOFFSETFROM:-0400
TZOFFSETTO:-0500
TZNAME:EST
DTSTART:20241103T060000
END:STANDARD
BEGIN:DAYLIGHT
TZOFFSETFROM:-0500
TZOFFSETTO:-0400
TZNAME:EDT
DTSTART:20250309T070000
END:DAYLIGHT
BEGIN:STANDARD
TZOFFSETFROM:-0400
TZOFFSETTO:-0500
TZNAME:EST
DTSTART:20251102T060000
END:STANDARD
END:VTIMEZONE
BEGIN:VEVENT
DTSTART;TZID=America/New_York:20241010T083000
DTEND;TZID=America/New_York:20241013T180000
DTSTAMP:20260420T062505
CREATED:20241011T012632Z
LAST-MODIFIED:20241011T012632Z
UID:10000755-1728549000-1728842400@marlsgate.com
SUMMARY:Fork in the Road Deliveries for October 15\, 2024
DESCRIPTION:https://ohbz.com/oo/marlsgate-scott-ar
URL:https://marlsgate.com/event/fork-in-the-road-deliveries-for-october-15-2024/
LOCATION:Marlsgate\, 2700 Bear Skin Lake Rd\, Scott\, AR\, 72142\, United States
CATEGORIES:Food Delivery Service,Fork in the Road
END:VEVENT
END:VCALENDAR