BEGIN:VCALENDAR
VERSION:2.0
PRODID:-//Marlsgate - ECPv6.15.15//NONSGML v1.0//EN
CALSCALE:GREGORIAN
METHOD:PUBLISH
X-ORIGINAL-URL:https://marlsgate.com
X-WR-CALDESC:Events for Marlsgate
REFRESH-INTERVAL;VALUE=DURATION:PT1H
X-Robots-Tag:noindex
X-PUBLISHED-TTL:PT1H
BEGIN:VTIMEZONE
TZID:America/New_York
BEGIN:DAYLIGHT
TZOFFSETFROM:-0500
TZOFFSETTO:-0400
TZNAME:EDT
DTSTART:20240310T070000
END:DAYLIGHT
BEGIN:STANDARD
TZOFFSETFROM:-0400
TZOFFSETTO:-0500
TZNAME:EST
DTSTART:20241103T060000
END:STANDARD
BEGIN:DAYLIGHT
TZOFFSETFROM:-0500
TZOFFSETTO:-0400
TZNAME:EDT
DTSTART:20250309T070000
END:DAYLIGHT
BEGIN:STANDARD
TZOFFSETFROM:-0400
TZOFFSETTO:-0500
TZNAME:EST
DTSTART:20251102T060000
END:STANDARD
BEGIN:DAYLIGHT
TZOFFSETFROM:-0500
TZOFFSETTO:-0400
TZNAME:EDT
DTSTART:20260308T070000
END:DAYLIGHT
BEGIN:STANDARD
TZOFFSETFROM:-0400
TZOFFSETTO:-0500
TZNAME:EST
DTSTART:20261101T060000
END:STANDARD
END:VTIMEZONE
BEGIN:VEVENT
DTSTART;TZID=America/New_York:20250118T153000
DTEND;TZID=America/New_York:20250118T203000
DTSTAMP:20260420T124247
CREATED:20250111T205743Z
LAST-MODIFIED:20250113T184647Z
UID:10001082-1737214200-1737232200@marlsgate.com
SUMMARY:SOLD OUT-COOKING SCHOOL -- "Foods On Fire" -- January 18\, 2025
DESCRIPTION:
URL:https://marlsgate.com/event/cooking-school-foods-on-fire-january-18-2025/
LOCATION:Marlsgate\, 2700 Bear Skin Lake Rd\, Scott\, AR\, 72142\, United States
CATEGORIES:Cooking School
ATTACH;FMTTYPE=image/jpeg:https://marlsgate.com/wp-content/uploads/2025/01/Foods-On-Fire-Cooking-School-2025-Smaller-Image-1-scaled.jpg
END:VEVENT
BEGIN:VEVENT
DTSTART;VALUE=DATE:20250123
DTEND;VALUE=DATE:20250124
DTSTAMP:20260420T124247
CREATED:20241224T144610Z
LAST-MODIFIED:20241224T144610Z
UID:10001056-1737590400-1737676799@marlsgate.com
SUMMARY:Afternoon Tea-Private Event
DESCRIPTION:
URL:https://marlsgate.com/event/afternoon-tea-private-event/
LOCATION:Marlsgate\, 2700 Bear Skin Lake Rd\, Scott\, AR\, 72142\, United States
CATEGORIES:Afternoon Tea
END:VEVENT
END:VCALENDAR