BEGIN:VCALENDAR
VERSION:2.0
PRODID:-//Marlsgate - ECPv6.15.15//NONSGML v1.0//EN
CALSCALE:GREGORIAN
METHOD:PUBLISH
X-ORIGINAL-URL:https://marlsgate.com
X-WR-CALDESC:Events for Marlsgate
REFRESH-INTERVAL;VALUE=DURATION:PT1H
X-Robots-Tag:noindex
X-PUBLISHED-TTL:PT1H
BEGIN:VTIMEZONE
TZID:America/New_York
BEGIN:DAYLIGHT
TZOFFSETFROM:-0500
TZOFFSETTO:-0400
TZNAME:EDT
DTSTART:20240310T070000
END:DAYLIGHT
BEGIN:STANDARD
TZOFFSETFROM:-0400
TZOFFSETTO:-0500
TZNAME:EST
DTSTART:20241103T060000
END:STANDARD
BEGIN:DAYLIGHT
TZOFFSETFROM:-0500
TZOFFSETTO:-0400
TZNAME:EDT
DTSTART:20250309T070000
END:DAYLIGHT
BEGIN:STANDARD
TZOFFSETFROM:-0400
TZOFFSETTO:-0500
TZNAME:EST
DTSTART:20251102T060000
END:STANDARD
BEGIN:DAYLIGHT
TZOFFSETFROM:-0500
TZOFFSETTO:-0400
TZNAME:EDT
DTSTART:20260308T070000
END:DAYLIGHT
BEGIN:STANDARD
TZOFFSETFROM:-0400
TZOFFSETTO:-0500
TZNAME:EST
DTSTART:20261101T060000
END:STANDARD
END:VTIMEZONE
BEGIN:VEVENT
DTSTART;TZID=America/New_York:20250214T180000
DTEND;TZID=America/New_York:20250214T210000
DTSTAMP:20260420T125233
CREATED:20241224T142628Z
LAST-MODIFIED:20250118T161837Z
UID:10001052-1739556000-1739566800@marlsgate.com
SUMMARY:SOLD OUT-Valentine's Day Dinner on Friday\, February 14th at 6:00 in the Evening
DESCRIPTION:A timeless\, romantic setting filled with music\, art\, wood-burning fireplaces….and hand-crafted\, Chef-created foods.  Valentine’s Dinners are a tradition at Marlsgate.  We can’t wait to see you!
URL:https://marlsgate.com/event/valentines-day-dinner-february-14-2025/
LOCATION:Marlsgate\, 2700 Bear Skin Lake Rd\, Scott\, AR\, 72142\, United States
CATEGORIES:Valentines Day Dinner
ATTACH;FMTTYPE=image/jpeg:https://marlsgate.com/wp-content/uploads/2024/12/Valentines-Day-Party-Menu-Small-Size.jpg
END:VEVENT
BEGIN:VEVENT
DTSTART;TZID=America/New_York:20250215T140000
DTEND;TZID=America/New_York:20250215T160000
DTSTAMP:20260420T125233
CREATED:20241224T143424Z
LAST-MODIFIED:20250202T233450Z
UID:10001054-1739628000-1739635200@marlsgate.com
SUMMARY:SOLD OUT-Galentine's Afternoon Tea - February 15th
DESCRIPTION:  \n 
URL:https://marlsgate.com/event/galentines-afternoon-tea/
LOCATION:Marlsgate\, 2700 Bear Skin Lake Rd\, Scott\, AR\, 72142\, United States
CATEGORIES:Valentine Afternoon Tea
ATTACH;FMTTYPE=image/jpeg:https://marlsgate.com/wp-content/uploads/2024/12/Galentines-Tea-2025-Small-Image.jpg
END:VEVENT
BEGIN:VEVENT
DTSTART;TZID=America/New_York:20250215T180000
DTEND;TZID=America/New_York:20250215T210000
DTSTAMP:20260420T125233
CREATED:20250118T214930Z
LAST-MODIFIED:20250213T150624Z
UID:10001083-1739642400-1739653200@marlsgate.com
SUMMARY:Valentine's Dinner on Saturday\, February 15th @ 6:00 in the Evening
DESCRIPTION:A timeless\, romantic setting filled with music\, art\, wood-burning fireplaces….and hand-crafted\, Chef-created foods.  Valentine’s Dinners are a tradition at Marlsgate.  We can’t wait to see you! \n \nAll ticket purchases at Marlsgate are Non-refundable
URL:https://marlsgate.com/event/valentines-dinner-on-saturday-february-15th-600-in-the-evening/
LOCATION:Marlsgate\, 2700 Bear Skin Lake Rd\, Scott\, AR\, 72142\, United States
CATEGORIES:Valentines Day Dinner
ATTACH;FMTTYPE=image/jpeg:https://marlsgate.com/wp-content/uploads/2025/01/Valentines-Dinner-Party-Menu-February-15th-Small-Size.jpg
END:VEVENT
END:VCALENDAR