BEGIN:VCALENDAR
VERSION:2.0
PRODID:-//Marlsgate - ECPv6.15.15//NONSGML v1.0//EN
CALSCALE:GREGORIAN
METHOD:PUBLISH
X-ORIGINAL-URL:https://marlsgate.com
X-WR-CALDESC:Events for Marlsgate
REFRESH-INTERVAL;VALUE=DURATION:PT1H
X-Robots-Tag:noindex
X-PUBLISHED-TTL:PT1H
BEGIN:VTIMEZONE
TZID:America/New_York
BEGIN:DAYLIGHT
TZOFFSETFROM:-0500
TZOFFSETTO:-0400
TZNAME:EDT
DTSTART:20240310T070000
END:DAYLIGHT
BEGIN:STANDARD
TZOFFSETFROM:-0400
TZOFFSETTO:-0500
TZNAME:EST
DTSTART:20241103T060000
END:STANDARD
BEGIN:DAYLIGHT
TZOFFSETFROM:-0500
TZOFFSETTO:-0400
TZNAME:EDT
DTSTART:20250309T070000
END:DAYLIGHT
BEGIN:STANDARD
TZOFFSETFROM:-0400
TZOFFSETTO:-0500
TZNAME:EST
DTSTART:20251102T060000
END:STANDARD
BEGIN:DAYLIGHT
TZOFFSETFROM:-0500
TZOFFSETTO:-0400
TZNAME:EDT
DTSTART:20260308T070000
END:DAYLIGHT
BEGIN:STANDARD
TZOFFSETFROM:-0400
TZOFFSETTO:-0500
TZNAME:EST
DTSTART:20261101T060000
END:STANDARD
END:VTIMEZONE
BEGIN:VEVENT
DTSTART;TZID=America/New_York:20250419T100000
DTEND;TZID=America/New_York:20250419T140000
DTSTAMP:20260420T160507
CREATED:20250326T160956Z
LAST-MODIFIED:20250411T171715Z
UID:10001362-1745056800-1745071200@marlsgate.com
SUMMARY:SOLD OUT-EASTER EGG DROP BY AIRPLANE -- April 19\, 2025
DESCRIPTION:
URL:https://marlsgate.com/event/easter-egg-drop-by-airplane-april-19-2025/
LOCATION:Marlsgate\, 2700 Bear Skin Lake Rd\, Scott\, AR\, 72142\, United States
END:VEVENT
BEGIN:VEVENT
DTSTART;TZID=America/New_York:20250420T123000
DTEND;TZID=America/New_York:20250420T150000
DTSTAMP:20260420T160507
CREATED:20241224T140053Z
LAST-MODIFIED:20250322T194657Z
UID:10001053-1745152200-1745161200@marlsgate.com
SUMMARY:Easter at Marlsgate -- Sunday\, April 20\, 2025
DESCRIPTION:Easter at Marlsgate…. \nWe can’t wait to see you….  Our Traditional Easter Luncheon will be a feast and a treat!  We hope you will plan to linger following lunch to explore the glorious gardens and grounds of Marlgate…. \nEaster Sunday will be the first “reopening” of Marlsgate following our extensive Winter Renovations.  We can’t wait to share our fresh\, elegant Marlsgate with you all!
URL:https://marlsgate.com/event/marlsgate-wedding-private-event-2/
LOCATION:Marlsgate\, 2700 Bear Skin Lake Rd\, Scott\, AR\, 72142\, United States
CATEGORIES:Easter
END:VEVENT
BEGIN:VEVENT
DTSTART;TZID=America/New_York:20250422T173000
DTEND;TZID=America/New_York:20250422T203000
DTSTAMP:20260420T160507
CREATED:20250226T235827Z
LAST-MODIFIED:20250414T133421Z
UID:10001090-1745343000-1745353800@marlsgate.com
SUMMARY:SOLD OUT-Marlsgate Cooking School with Lisa Fischer April 22nd
DESCRIPTION:We are back to spice things up with another Cooking School…..This time with Lisa Fischer on April 22\, 2025 from 5:30 until 8:30. \nWe promise excellent recipes\, interactive learning\, and a delish dinner (created by you!) in the Marlsgate Dining Room…. It is an experience you will not forget — and you will want to repeat!  We can’t wait to see you! \n$100 – Cooking School and Dinner (14 spaces available) \n$50 – Dinner Only (Invite a spouse or friend to join you after you’ve learned some new skills and see what you cooked up in the kitchen) (14 seats available) \nMenu:\nFelix Hot Rolls & Cajun Dipping Oils\nFresh Spinach Salad with Spring Fried Okra and Bacon Dressing\nButter Poached Lobster Tail OR Iron Skillet Salmon\nMarlsgate Risotto with Asparagus Tips\, Snow Peas and Sauteed Mushrooms\nFlambe Bourbon Brussels Sprouts\nSurprise Dessert
URL:https://marlsgate.com/event/marlsgate-cooking-school-with-lisa-fischer-april-22nd/
LOCATION:Marlsgate\, 2700 Bear Skin Lake Rd\, Scott\, AR\, 72142\, United States
CATEGORIES:Cooking School
END:VEVENT
BEGIN:VEVENT
DTSTART;VALUE=DATE:20250426
DTEND;VALUE=DATE:20250427
DTSTAMP:20260420T160507
CREATED:20241224T145322Z
LAST-MODIFIED:20241224T145322Z
UID:10001057-1745625600-1745711999@marlsgate.com
SUMMARY:Marlsgate Wedding-Private Event
DESCRIPTION:
URL:https://marlsgate.com/event/marlsgate-wedding-private-event-3/
LOCATION:Marlsgate\, 2700 Bear Skin Lake Rd\, Scott\, AR\, 72142\, United States
CATEGORIES:Wedding
ATTACH;FMTTYPE=image/jpeg:https://marlsgate.com/wp-content/uploads/2024/01/qtq80-dGBVPW.jpeg
END:VEVENT
END:VCALENDAR