BEGIN:VCALENDAR
VERSION:2.0
PRODID:-//Marlsgate - ECPv6.15.15//NONSGML v1.0//EN
CALSCALE:GREGORIAN
METHOD:PUBLISH
X-WR-CALNAME:Marlsgate
X-ORIGINAL-URL:https://marlsgate.com
X-WR-CALDESC:Events for Marlsgate
REFRESH-INTERVAL;VALUE=DURATION:PT1H
X-Robots-Tag:noindex
X-PUBLISHED-TTL:PT1H
BEGIN:VTIMEZONE
TZID:America/New_York
BEGIN:DAYLIGHT
TZOFFSETFROM:-0500
TZOFFSETTO:-0400
TZNAME:EDT
DTSTART:20240310T070000
END:DAYLIGHT
BEGIN:STANDARD
TZOFFSETFROM:-0400
TZOFFSETTO:-0500
TZNAME:EST
DTSTART:20241103T060000
END:STANDARD
BEGIN:DAYLIGHT
TZOFFSETFROM:-0500
TZOFFSETTO:-0400
TZNAME:EDT
DTSTART:20250309T070000
END:DAYLIGHT
BEGIN:STANDARD
TZOFFSETFROM:-0400
TZOFFSETTO:-0500
TZNAME:EST
DTSTART:20251102T060000
END:STANDARD
BEGIN:DAYLIGHT
TZOFFSETFROM:-0500
TZOFFSETTO:-0400
TZNAME:EDT
DTSTART:20260308T070000
END:DAYLIGHT
BEGIN:STANDARD
TZOFFSETFROM:-0400
TZOFFSETTO:-0500
TZNAME:EST
DTSTART:20261101T060000
END:STANDARD
END:VTIMEZONE
BEGIN:VEVENT
DTSTART;VALUE=DATE:20250607
DTEND;VALUE=DATE:20250608
DTSTAMP:20260420T213021
CREATED:20241224T150006Z
LAST-MODIFIED:20241224T150021Z
UID:10001058-1749254400-1749340799@marlsgate.com
SUMMARY:Marlsgate Wedding-Private Event
DESCRIPTION:
URL:https://marlsgate.com/event/marlsgate-wedding-private-event-4/
LOCATION:Marlsgate\, 2700 Bear Skin Lake Rd\, Scott\, AR\, 72142\, United States
CATEGORIES:Wedding
ATTACH;FMTTYPE=image/jpeg:https://marlsgate.com/wp-content/uploads/2024/01/qtq80-I1TZIQ-scaled.jpeg
END:VEVENT
BEGIN:VEVENT
DTSTART;VALUE=DATE:20250612
DTEND;VALUE=DATE:20250613
DTSTAMP:20260420T213021
CREATED:20241224T151242Z
LAST-MODIFIED:20241224T151242Z
UID:10001064-1749686400-1749772799@marlsgate.com
SUMMARY:Private Event-50th Anniversary Party
DESCRIPTION:
URL:https://marlsgate.com/event/private-event-50th-anniversary-party/
LOCATION:Marlsgate\, 2700 Bear Skin Lake Rd\, Scott\, AR\, 72142\, United States
CATEGORIES:Private-Reserved
END:VEVENT
BEGIN:VEVENT
DTSTART;VALUE=DATE:20250614
DTEND;VALUE=DATE:20250615
DTSTAMP:20260420T213021
CREATED:20241224T150145Z
LAST-MODIFIED:20241224T150145Z
UID:10001059-1749859200-1749945599@marlsgate.com
SUMMARY:Marlsgate Wedding-Private Event
DESCRIPTION:
URL:https://marlsgate.com/event/marlsgate-wedding-private-event-5/
LOCATION:Marlsgate\, 2700 Bear Skin Lake Rd\, Scott\, AR\, 72142\, United States
CATEGORIES:Wedding
ATTACH;FMTTYPE=image/jpeg:https://marlsgate.com/wp-content/uploads/2024/01/qtq80-dGBVPW.jpeg
END:VEVENT
BEGIN:VEVENT
DTSTART;TZID=America/New_York:20250618T173000
DTEND;TZID=America/New_York:20250618T203000
DTSTAMP:20260420T213021
CREATED:20250514T202253Z
LAST-MODIFIED:20250520T193031Z
UID:10001363-1750267800-1750278600@marlsgate.com
SUMMARY:SOLD OUT-Cooking School -- June 18\, 2025
DESCRIPTION:Welcome to another edition of our Marlsgate Cooking School\, with our favorite guest (and the “voice” of Marlsgate) Lisa Fischer. \nALWAYS a fun evening.  Always great recipes\, and instruction\, and dining together!  5:30 – 8:30 pm.  Active Class limited to 10 Participants.
URL:https://marlsgate.com/event/cooking-school-june-18-2025/
LOCATION:Marlsgate\, 2700 Bear Skin Lake Rd\, Scott\, AR\, 72142\, United States
END:VEVENT
BEGIN:VEVENT
DTSTART;VALUE=DATE:20250620
DTEND;VALUE=DATE:20250621
DTSTAMP:20260420T213021
CREATED:20250619T211037Z
LAST-MODIFIED:20250619T211037Z
UID:10001371-1750377600-1750463999@marlsgate.com
SUMMARY:Private Birthday Celebration!
DESCRIPTION:
URL:https://marlsgate.com/event/private-birthday-celebration/
LOCATION:Marlsgate\, 2700 Bear Skin Lake Rd\, Scott\, AR\, 72142\, United States
END:VEVENT
BEGIN:VEVENT
DTSTART;VALUE=DATE:20250628
DTEND;VALUE=DATE:20250629
DTSTAMP:20260420T213021
CREATED:20250619T211108Z
LAST-MODIFIED:20250619T211108Z
UID:10001372-1751068800-1751155199@marlsgate.com
SUMMARY:Private Retirement Celebration!
DESCRIPTION:
URL:https://marlsgate.com/event/private-retirement-celebration/
LOCATION:Marlsgate\, 2700 Bear Skin Lake Rd\, Scott\, AR\, 72142\, United States
END:VEVENT
END:VCALENDAR