BEGIN:VCALENDAR
VERSION:2.0
PRODID:-//Marlsgate - ECPv6.15.15//NONSGML v1.0//EN
CALSCALE:GREGORIAN
METHOD:PUBLISH
X-WR-CALNAME:Marlsgate
X-ORIGINAL-URL:https://marlsgate.com
X-WR-CALDESC:Events for Marlsgate
REFRESH-INTERVAL;VALUE=DURATION:PT1H
X-Robots-Tag:noindex
X-PUBLISHED-TTL:PT1H
BEGIN:VTIMEZONE
TZID:America/New_York
BEGIN:DAYLIGHT
TZOFFSETFROM:-0500
TZOFFSETTO:-0400
TZNAME:EDT
DTSTART:20220313T070000
END:DAYLIGHT
BEGIN:STANDARD
TZOFFSETFROM:-0400
TZOFFSETTO:-0500
TZNAME:EST
DTSTART:20221106T060000
END:STANDARD
BEGIN:DAYLIGHT
TZOFFSETFROM:-0500
TZOFFSETTO:-0400
TZNAME:EDT
DTSTART:20230312T070000
END:DAYLIGHT
BEGIN:STANDARD
TZOFFSETFROM:-0400
TZOFFSETTO:-0500
TZNAME:EST
DTSTART:20231105T060000
END:STANDARD
BEGIN:DAYLIGHT
TZOFFSETFROM:-0500
TZOFFSETTO:-0400
TZNAME:EDT
DTSTART:20240310T070000
END:DAYLIGHT
BEGIN:STANDARD
TZOFFSETFROM:-0400
TZOFFSETTO:-0500
TZNAME:EST
DTSTART:20241103T060000
END:STANDARD
END:VTIMEZONE
BEGIN:VEVENT
DTSTART;TZID=America/New_York:20231201T180000
DTEND;TZID=America/New_York:20231201T210000
DTSTAMP:20260424T203626
CREATED:20230907T135548Z
LAST-MODIFIED:20231111T164742Z
UID:10000149-1701453600-1701464400@marlsgate.com
SUMMARY:SOLD OUT.   Lighting of the Christmas Tree & Candlelight Dinner
DESCRIPTION:SOLD OUT.  Our official first day of Christmas begins with the Lighting of the Christmas Tree at 6:00 on the Central Landing inside historic Marlsgate. A beautiful Candlelight Christmas dinner will follow the tree-lighting ceremony.  Kick off the joyous holiday season at Marlsgate and unlock the Christmas magic by candlelight.  Your table will be set with beautiful crystal and china from generations of family collections. We will have traditional Christmas music\, and roaring fires in every room. \nBy reservation only. \n 
URL:https://marlsgate.com/event/christmas-candlelight-dinner-2/
LOCATION:Marlsgate\, 2700 Bear Skin Lake Rd\, Scott\, AR\, 72142\, United States
CATEGORIES:Christmas
ATTACH;FMTTYPE=image/jpeg:https://marlsgate.com/wp-content/uploads/2023/08/Marlsgate-Tree-scaled.jpg
END:VEVENT
BEGIN:VEVENT
DTSTART;TZID=America/New_York:20231124T113400
DTEND;TZID=America/New_York:20231124T113400
DTSTAMP:20260424T203626
CREATED:20230906T214250Z
LAST-MODIFIED:20231124T163508Z
UID:10000137-1700825640-1700825640@marlsgate.com
SUMMARY:SOLD OUT-Christmas Candlelight Dinner
DESCRIPTION:There’s no better Christmas present than being in the presence of family and friends. Come celebrate the joyous holiday season at Marlsgate and unlock the Christmas magic by candlelight.  Your table will be set with beautiful crystal and china from generations of family collections. We will have traditional Christmas music\, and roaring fires in every room. \nBy reservation only. \n  \n 
URL:https://marlsgate.com/event/christmas-candlelight-dinner/
LOCATION:Marlsgate\, 2700 Bear Skin Lake Rd\, Scott\, AR\, 72142\, United States
CATEGORIES:Christmas
ATTACH;FMTTYPE=image/jpeg:https://marlsgate.com/wp-content/uploads/2023/09/GettyImages-1643376630-scaled.jpg
END:VEVENT
BEGIN:VEVENT
DTSTART;TZID=America/New_York:20231117T100000
DTEND;TZID=America/New_York:20231222T170000
DTSTAMP:20260424T203626
CREATED:20231110T225236Z
LAST-MODIFIED:20231111T163747Z
UID:10000187-1700215200-1703264400@marlsgate.com
SUMMARY:OPEN!  The 1888 Carriage House Boutique
DESCRIPTION:Santa loves shopping for gifts at the 1888 Carriage House. Our curated collection of Arkansas artists\, vintage and unique clothing\, exquisite gifts and sterling silver\, and artist-designed fine pearl jewelry will make your gift-giving FUN!  Open every Thursday\, Friday\, and Saturday from 10:00 until 5:00\, or by appointment\, until December 22nd.  We can’t wait to see you….  870-717-2789
URL:https://marlsgate.com/event/1888-carraige-house-boutique/
LOCATION:Marlsgate\, 2700 Bear Skin Lake Rd\, Scott\, AR\, 72142\, United States
CATEGORIES:Christmas
ATTACH;FMTTYPE=image/jpeg:https://marlsgate.com/wp-content/uploads/2023/11/GettyImages-90798074-3-scaled.jpg
END:VEVENT
BEGIN:VEVENT
DTSTART;TZID=America/New_York:20231031T170000
DTEND;TZID=America/New_York:20231031T200000
DTSTAMP:20260424T203626
CREATED:20230825T164332Z
LAST-MODIFIED:20230906T221653Z
UID:10000122-1698771600-1698782400@marlsgate.com
SUMMARY:Halloween Crawl
DESCRIPTION:Ghostly greetings to you…when you drive HWY 165 in Scott\, Arkansas don’t be spooked by the Ghoul’s and Goblins that will be participating in this years Drive 165-Scott Fest Halloween Crawl.  On Halloween participating businesses will offer Halloween tricks and treats to your littles at their booth outside their businesses from 5pm-8pm\, October 31st\, 2023. Flyers will be produced and furnished to the local schools..
URL:https://marlsgate.com/event/halloween-crawl/
LOCATION:Marlsgate\, 2700 Bear Skin Lake Rd\, Scott\, AR\, 72142\, United States
CATEGORIES:Drive 165 Scott Festival
ATTACH;FMTTYPE=image/jpeg:https://marlsgate.com/wp-content/uploads/2023/08/Trick-or-Treat.jpg
END:VEVENT
BEGIN:VEVENT
DTSTART;VALUE=DATE:20231028
DTEND;VALUE=DATE:20231029
DTSTAMP:20260424T203626
CREATED:20230824T155337Z
LAST-MODIFIED:20230906T221847Z
UID:10000119-1698451200-1698537599@marlsgate.com
SUMMARY:Private Party-Reserved
DESCRIPTION:Marlsgate will be closed for a private party. If you would like more information on hosting your event at Marlsgate please visit our website or call 870-717-2789
URL:https://marlsgate.com/event/private-party-closed-4/
LOCATION:Marlsgate\, 2700 Bear Skin Lake Rd\, Scott\, AR\, 72142\, United States
CATEGORIES:Private Party
ATTACH;FMTTYPE=image/jpeg:https://marlsgate.com/wp-content/uploads/2023/02/GettyImages-86056835-scaled.jpg
END:VEVENT
BEGIN:VEVENT
DTSTART;VALUE=DATE:20231021
DTEND;VALUE=DATE:20231022
DTSTAMP:20260424T203626
CREATED:20230824T155139Z
LAST-MODIFIED:20230906T221857Z
UID:10000118-1697846400-1697932799@marlsgate.com
SUMMARY:Private Party-Reserved
DESCRIPTION:Marlsgate will be closed for a private party. If you would like more information on hosting your event at Marlsgate please visit our website or call 870-717-2789
URL:https://marlsgate.com/event/private-party-closed-3/
LOCATION:Marlsgate\, 2700 Bear Skin Lake Rd\, Scott\, AR\, 72142\, United States
CATEGORIES:Private Party
ATTACH;FMTTYPE=image/jpeg:https://marlsgate.com/wp-content/uploads/2023/02/GettyImages-1448444809-scaled.jpg
END:VEVENT
BEGIN:VEVENT
DTSTART;VALUE=DATE:20231020
DTEND;VALUE=DATE:20231021
DTSTAMP:20260424T203626
CREATED:20230824T154851Z
LAST-MODIFIED:20230906T221908Z
UID:10000117-1697760000-1697846399@marlsgate.com
SUMMARY:Private Party-Reserved
DESCRIPTION:Marlsgate will be closed for a private party. If you would like more information on hosting your event at Marlsgate please visit our website or call 870-717-2789
URL:https://marlsgate.com/event/private-party-closed-2/
LOCATION:Marlsgate\, 2700 Bear Skin Lake Rd\, Scott\, AR\, 72142\, United States
CATEGORIES:Private Party
ATTACH;FMTTYPE=image/jpeg:https://marlsgate.com/wp-content/uploads/2023/02/GettyImages-946872630-scaled.jpg
END:VEVENT
BEGIN:VEVENT
DTSTART;VALUE=DATE:20231014
DTEND;VALUE=DATE:20231015
DTSTAMP:20260424T203626
CREATED:20230824T154612Z
LAST-MODIFIED:20230906T221918Z
UID:10000116-1697241600-1697327999@marlsgate.com
SUMMARY:Private Party-Reserved
DESCRIPTION:Marlsgate will be closed for a private party. If you would like more information on hosting your event at Marlsgate please visit our website or call 870-717-2789
URL:https://marlsgate.com/event/private-party-closed/
LOCATION:Marlsgate\, 2700 Bear Skin Lake Rd\, Scott\, AR\, 72142\, United States
CATEGORIES:Private Party
ATTACH;FMTTYPE=image/jpeg:https://marlsgate.com/wp-content/uploads/2023/08/IMG_20180106_105234-1.jpg
END:VEVENT
BEGIN:VEVENT
DTSTART;VALUE=DATE:20231013
DTEND;VALUE=DATE:20231014
DTSTAMP:20260424T203626
CREATED:20230824T160044Z
LAST-MODIFIED:20230906T221927Z
UID:10000120-1697155200-1697241599@marlsgate.com
SUMMARY:Private Party-Reserved
DESCRIPTION:Marlsgate will be closed for a private party. If you would like more information on hosting your event at Marlsgate please visit our website or call 870-717-2789
URL:https://marlsgate.com/event/private-party-closed-5/
LOCATION:Marlsgate\, 2700 Bear Skin Lake Rd\, Scott\, AR\, 72142\, United States
CATEGORIES:Private Party
ATTACH;FMTTYPE=image/jpeg:https://marlsgate.com/wp-content/uploads/2022/09/qtq80-Uen5JD.jpeg
END:VEVENT
BEGIN:VEVENT
DTSTART;TZID=America/New_York:20230514T123000
DTEND;TZID=America/New_York:20230514T150000
DTSTAMP:20260424T203626
CREATED:20230425T204903Z
LAST-MODIFIED:20230511T190554Z
UID:10000111-1684067400-1684076400@marlsgate.com
SUMMARY:SOLD OUT-Mother's Day Brunch
DESCRIPTION:— LUNCHEON —\nSPRING CURVE MARKET SALAD \nwith local vegetables\, herbs\, and Lonoke\nCounty strawberries \nBEAUCOUP SHRIMP & GRITS\nwith Trinity Alfredo \nLOBSTER POT PIE \nin an iron skillet \nIRON SKILLET FRIED CHICKEN \nwith smashed New Potatoes \nROAST SPRING ASPARAGUS SPEARS \nwith house-made Hollandaise Sauce \nPERSONAL LOAVES OF FRESH BREAD \nwith cracked peppercorns and sea salt \n— DESSERTS —OUR SIGNATURE BREAD PUDDING\nwith iron skillet praline sauce \nMARLSGATE CHEESECAKE \nwith local strawberries in lavender syrup
URL:https://marlsgate.com/event/mothers-day-brunch-2/
LOCATION:Marlsgate\, 2700 Bear Skin Lake Rd\, Scott\, AR\, 72142\, United States
CATEGORIES:Mother's Day
ATTACH;FMTTYPE=image/png:https://marlsgate.com/wp-content/uploads/2023/04/Marlsgate-IMAGE-Mothers-Day-Menu-2023.png
END:VEVENT
BEGIN:VEVENT
DTSTART;TZID=America/New_York:20230513T100000
DTEND;TZID=America/New_York:20230513T160000
DTSTAMP:20260424T203626
CREATED:20230425T195333Z
LAST-MODIFIED:20230511T202928Z
UID:10000108-1683972000-1683993600@marlsgate.com
SUMMARY:Marlsgate May Market
DESCRIPTION:Twice each year we open the Party Tent to hand-selected Vendors for a day of shopping and garden tours and box lunches….. We will have artists and artisans and unique products created just for our Market! House Tours will be available for an additional fee. \nVendors: Please TEXT (870)717-2789 for Booth Rentals and Information.
URL:https://marlsgate.com/event/marlsgate-may-market/
LOCATION:Marlsgate\, 2700 Bear Skin Lake Rd\, Scott\, AR\, 72142\, United States
CATEGORIES:May Market
ATTACH;FMTTYPE=image/jpeg:https://marlsgate.com/wp-content/uploads/2023/04/Marlsgate-Plantation-May-Market-Flyer-2023-scaled-1.jpg
END:VEVENT
END:VCALENDAR